Package: plgem Version: 1.79.0 Command: /home/biocbuild/bbs-3.21-bioc/R/bin/R CMD INSTALL plgem StartedAt: 2025-02-09 15:14:55 -0500 (Sun, 09 Feb 2025) EndedAt: 2025-02-09 15:14:58 -0500 (Sun, 09 Feb 2025) EllapsedTime: 3.7 seconds RetCode: 0 Status: OK