Package: plgem Version: 1.79.0 Command: rm -rf plgem.buildbin-libdir && mkdir plgem.buildbin-libdir && E:\biocbuild\bbs-3.21-bioc\R\bin\R.exe CMD INSTALL --build --library=plgem.buildbin-libdir plgem_1.79.0.tar.gz StartedAt: 2025-02-10 08:23:38 -0500 (Mon, 10 Feb 2025) EndedAt: 2025-02-10 08:23:46 -0500 (Mon, 10 Feb 2025) EllapsedTime: 7.8 seconds RetCode: 0 Status: OK PackageFile: plgem_1.79.0.zip PackageFileSize: 1006 KiB