Package: plgem Version: 1.79.0 Command: E:\biocbuild\bbs-3.21-bioc\R\bin\R.exe CMD check --no-multiarch --install=check:plgem.install-out.txt --library=E:\biocbuild\bbs-3.21-bioc\R\library --no-vignettes --timings plgem_1.79.0.tar.gz StartedAt: 2025-02-10 04:09:03 -0500 (Mon, 10 Feb 2025) EndedAt: 2025-02-10 04:10:11 -0500 (Mon, 10 Feb 2025) EllapsedTime: 68.4 seconds RetCode: 0 Status: OK CheckDir: plgem.Rcheck Warnings: 0