Package: plier Version: 1.77.0 Command: rm -rf plier.buildbin-libdir && mkdir plier.buildbin-libdir && /Users/biocbuild/BBS/utils/build-universal.sh plier_1.77.0.tar.gz /Library/Frameworks/R.framework/Resources/bin/R plier.buildbin-libdir StartedAt: 2025-02-04 22:27:10 -0500 (Tue, 04 Feb 2025) EndedAt: 2025-02-04 22:27:14 -0500 (Tue, 04 Feb 2025) EllapsedTime: 3.1 seconds RetCode: 0 Status: OK PackageFile: plier_1.77.0.tgz PackageFileSize: 40.24 KiB