Package: plier Version: 1.77.0 Command: rm -rf plier.buildbin-libdir && mkdir plier.buildbin-libdir && /Users/biocbuild/BBS/utils/build-universal.sh plier_1.77.0.tar.gz /Library/Frameworks/R.framework/Resources/bin/R plier.buildbin-libdir StartedAt: 2025-02-05 00:54:37 -0500 (Wed, 05 Feb 2025) EndedAt: 2025-02-05 00:54:48 -0500 (Wed, 05 Feb 2025) EllapsedTime: 11.6 seconds RetCode: 0 Status: OK PackageFile: plier_1.77.0.tgz PackageFileSize: 43.53 KiB