Package: plier Version: 1.77.0 Command: /Library/Frameworks/R.framework/Resources/bin/R CMD check --install=check:plier.install-out.txt --library=/Library/Frameworks/R.framework/Resources/library --no-vignettes --timings plier_1.77.0.tar.gz StartedAt: 2025-02-04 22:26:28 -0500 (Tue, 04 Feb 2025) EndedAt: 2025-02-04 22:27:06 -0500 (Tue, 04 Feb 2025) EllapsedTime: 38.0 seconds RetCode: 0 Status: WARNINGS CheckDir: plier.Rcheck Warnings: 1