Package: plier Version: 1.77.0 Command: /home/biocbuild/bbs-3.21-bioc/R/bin/R CMD build --keep-empty-dirs --no-resave-data plier StartedAt: 2025-02-04 18:38:21 -0500 (Tue, 04 Feb 2025) EndedAt: 2025-02-04 18:38:22 -0500 (Tue, 04 Feb 2025) EllapsedTime: 1.0 seconds RetCode: 0 Status: OK PackageFile: plier_1.77.0.tar.gz PackageFileSize: 20.32 KiB