Package: plier Version: 1.77.0 Command: rm -rf plier.buildbin-libdir && mkdir plier.buildbin-libdir && E:\biocbuild\bbs-3.21-bioc\R\bin\R.exe CMD INSTALL --build --library=plier.buildbin-libdir plier_1.77.0.tar.gz StartedAt: 2025-02-10 08:23:43 -0500 (Mon, 10 Feb 2025) EndedAt: 2025-02-10 08:23:54 -0500 (Mon, 10 Feb 2025) EllapsedTime: 11.0 seconds RetCode: 0 Status: OK PackageFile: plier_1.77.0.zip PackageFileSize: 99.18 KiB