Package: plier Version: 1.77.0 Command: chmod a+r plier -R && E:\biocbuild\bbs-3.21-bioc\R\bin\R.exe CMD build --keep-empty-dirs --no-resave-data plier StartedAt: 2025-02-09 20:47:19 -0500 (Sun, 09 Feb 2025) EndedAt: 2025-02-09 20:47:21 -0500 (Sun, 09 Feb 2025) EllapsedTime: 2.0 seconds RetCode: 0 Status: OK PackageFile: plier_1.77.0.tar.gz PackageFileSize: 20.33 KiB