Package: plotGrouper Version: 1.25.0 Command: rm -rf plotGrouper.buildbin-libdir && mkdir plotGrouper.buildbin-libdir && /Users/biocbuild/BBS/utils/build-universal.sh plotGrouper_1.25.0.tar.gz /Library/Frameworks/R.framework/Resources/bin/R plotGrouper.buildbin-libdir StartedAt: 2025-02-09 22:25:22 -0500 (Sun, 09 Feb 2025) EndedAt: 2025-02-09 22:25:25 -0500 (Sun, 09 Feb 2025) EllapsedTime: 3.1 seconds RetCode: 0 Status: OK PackageFile: plotGrouper_1.25.0.tgz PackageFileSize: 370.2 KiB