Package: plotGrouper Version: 1.25.0 Command: /Library/Frameworks/R.framework/Resources/bin/R CMD INSTALL plotGrouper StartedAt: 2025-02-03 16:03:34 -0500 (Mon, 03 Feb 2025) EndedAt: 2025-02-03 16:03:38 -0500 (Mon, 03 Feb 2025) EllapsedTime: 3.2 seconds RetCode: 0 Status: OK