Package: plotGrouper Version: 1.25.0 Command: /home/biocbuild/R/R/bin/R CMD build --keep-empty-dirs --no-resave-data plotGrouper StartedAt: 2025-01-29 01:18:17 -0000 (Wed, 29 Jan 2025) EndedAt: 2025-01-29 01:18:27 -0000 (Wed, 29 Jan 2025) EllapsedTime: 10.0 seconds RetCode: 0 Status: OK PackageFile: plotGrouper_1.25.0.tar.gz PackageFileSize: 704.3 KiB