Package: plotGrouper Version: 1.25.0 Command: /home/biocbuild/R/R/bin/R CMD check --install=check:plotGrouper.install-out.txt --library=/home/biocbuild/R/R/site-library --no-vignettes --timings plotGrouper_1.25.0.tar.gz StartedAt: 2025-01-28 13:57:45 -0000 (Tue, 28 Jan 2025) EndedAt: 2025-01-28 13:58:41 -0000 (Tue, 28 Jan 2025) EllapsedTime: 56.1 seconds RetCode: 0 Status: OK CheckDir: plotGrouper.Rcheck Warnings: 0