Package: plotGrouper Version: 1.25.0 Command: rm -rf plotGrouper.buildbin-libdir && mkdir plotGrouper.buildbin-libdir && /Users/biocbuild/BBS/utils/build-universal.sh plotGrouper_1.25.0.tar.gz /Library/Frameworks/R.framework/Resources/bin/R plotGrouper.buildbin-libdir StartedAt: 2025-02-10 01:08:34 -0500 (Mon, 10 Feb 2025) EndedAt: 2025-02-10 01:08:46 -0500 (Mon, 10 Feb 2025) EllapsedTime: 11.6 seconds RetCode: 0 Status: OK PackageFile: plotGrouper_1.25.0.tgz PackageFileSize: 370 KiB