Package: plotGrouper Version: 1.25.0 Command: /Library/Frameworks/R.framework/Resources/bin/R CMD build --keep-empty-dirs --no-resave-data plotGrouper StartedAt: 2025-02-09 17:58:27 -0500 (Sun, 09 Feb 2025) EndedAt: 2025-02-09 17:58:38 -0500 (Sun, 09 Feb 2025) EllapsedTime: 11.5 seconds RetCode: 0 Status: OK PackageFile: plotGrouper_1.25.0.tar.gz PackageFileSize: 704.3 KiB