Package: plotGrouper Version: 1.25.0 Command: /Library/Frameworks/R.framework/Resources/bin/R CMD check --install=check:plotGrouper.install-out.txt --library=/Library/Frameworks/R.framework/Resources/library --no-vignettes --timings plotGrouper_1.25.0.tar.gz StartedAt: 2025-02-03 22:29:03 -0500 (Mon, 03 Feb 2025) EndedAt: 2025-02-03 22:30:08 -0500 (Mon, 03 Feb 2025) EllapsedTime: 65.4 seconds RetCode: 0 Status: OK CheckDir: plotGrouper.Rcheck Warnings: 0