Package: plotGrouper Version: 1.25.0 Command: /home/biocbuild/bbs-3.21-bioc/R/bin/R CMD build --keep-empty-dirs --no-resave-data plotGrouper StartedAt: 2025-02-04 18:38:33 -0500 (Tue, 04 Feb 2025) EndedAt: 2025-02-04 18:38:41 -0500 (Tue, 04 Feb 2025) EllapsedTime: 8.0 seconds RetCode: 0 Status: OK PackageFile: plotGrouper_1.25.0.tar.gz PackageFileSize: 704.3 KiB