Package: plotGrouper Version: 1.25.0 Command: /home/biocbuild/bbs-3.21-bioc/R/bin/R CMD check --install=check:plotGrouper.install-out.txt --library=/home/biocbuild/bbs-3.21-bioc/R/site-library --timings plotGrouper_1.25.0.tar.gz StartedAt: 2025-02-05 01:29:24 -0500 (Wed, 05 Feb 2025) EndedAt: 2025-02-05 01:30:11 -0500 (Wed, 05 Feb 2025) EllapsedTime: 47.1 seconds RetCode: 0 Status: OK CheckDir: plotGrouper.Rcheck Warnings: 0