Package: plotGrouper Version: 1.25.0 Command: chmod a+r plotGrouper -R && E:\biocbuild\bbs-3.21-bioc\R\bin\R.exe CMD build --keep-empty-dirs --no-resave-data plotGrouper StartedAt: 2025-02-04 20:49:43 -0500 (Tue, 04 Feb 2025) EndedAt: 2025-02-04 20:49:58 -0500 (Tue, 04 Feb 2025) EllapsedTime: 14.9 seconds RetCode: 1 Status: ERROR PackageFile: None PackageFileSize: NA