Package: plotgardener Version: 1.13.0 Command: rm -rf plotgardener.buildbin-libdir && mkdir plotgardener.buildbin-libdir && /Users/biocbuild/BBS/utils/build-universal.sh plotgardener_1.13.0.tar.gz /Library/Frameworks/R.framework/Resources/bin/R plotgardener.buildbin-libdir StartedAt: 2025-02-09 22:25:22 -0500 (Sun, 09 Feb 2025) EndedAt: 2025-02-09 22:25:42 -0500 (Sun, 09 Feb 2025) EllapsedTime: 20.5 seconds RetCode: 0 Status: OK PackageFile: plotgardener_1.13.0.tgz PackageFileSize: 3.635 MiB