Package: plotgardener Version: 1.13.0 Command: /Library/Frameworks/R.framework/Resources/bin/R CMD check --install=check:plotgardener.install-out.txt --library=/Library/Frameworks/R.framework/Resources/library --no-vignettes --timings plotgardener_1.13.0.tar.gz StartedAt: 2025-02-03 21:17:19 -0500 (Mon, 03 Feb 2025) EndedAt: 2025-02-03 21:20:52 -0500 (Mon, 03 Feb 2025) EllapsedTime: 213.4 seconds RetCode: 0 Status: WARNINGS CheckDir: plotgardener.Rcheck Warnings: 1