Package: plotgardener Version: 1.13.0 Command: /Library/Frameworks/R.framework/Resources/bin/R CMD INSTALL plotgardener StartedAt: 2025-02-09 15:12:11 -0500 (Sun, 09 Feb 2025) EndedAt: 2025-02-09 15:12:28 -0500 (Sun, 09 Feb 2025) EllapsedTime: 17.3 seconds RetCode: 0 Status: OK