Package: plotgardener Version: 1.13.0 Command: rm -rf plotgardener.buildbin-libdir && mkdir plotgardener.buildbin-libdir && /Users/biocbuild/BBS/utils/build-universal.sh plotgardener_1.13.0.tar.gz /Library/Frameworks/R.framework/Resources/bin/R plotgardener.buildbin-libdir StartedAt: 2025-02-10 01:08:34 -0500 (Mon, 10 Feb 2025) EndedAt: 2025-02-10 01:09:44 -0500 (Mon, 10 Feb 2025) EllapsedTime: 70.4 seconds RetCode: 0 Status: OK PackageFile: plotgardener_1.13.0.tgz PackageFileSize: 3.631 MiB