Package: plotgardener Version: 1.13.0 Command: /Library/Frameworks/R.framework/Resources/bin/R CMD build --keep-empty-dirs --no-resave-data plotgardener StartedAt: 2025-02-03 17:56:18 -0500 (Mon, 03 Feb 2025) EndedAt: 2025-02-03 17:57:31 -0500 (Mon, 03 Feb 2025) EllapsedTime: 73.3 seconds RetCode: 0 Status: OK PackageFile: plotgardener_1.13.0.tar.gz PackageFileSize: 2.848 MiB