Package: plotgardener Version: 1.13.0 Command: /home/biocbuild/bbs-3.21-bioc/R/bin/R CMD build --keep-empty-dirs --no-resave-data plotgardener StartedAt: 2025-02-03 18:49:18 -0500 (Mon, 03 Feb 2025) EndedAt: 2025-02-03 18:50:26 -0500 (Mon, 03 Feb 2025) EllapsedTime: 68.1 seconds RetCode: 0 Status: OK PackageFile: plotgardener_1.13.0.tar.gz PackageFileSize: 2.731 MiB