Package: plotgardener Version: 1.13.0 Command: rm -rf plotgardener.buildbin-libdir && mkdir plotgardener.buildbin-libdir && E:\biocbuild\bbs-3.21-bioc\R\bin\R.exe CMD INSTALL --build --library=plotgardener.buildbin-libdir plotgardener_1.13.0.tar.gz StartedAt: 2025-02-04 08:36:45 -0500 (Tue, 04 Feb 2025) EndedAt: 2025-02-04 08:38:29 -0500 (Tue, 04 Feb 2025) EllapsedTime: 103.7 seconds RetCode: 0 Status: OK PackageFile: plotgardener_1.13.0.zip PackageFileSize: 3.603 MiB