Package: plotgardener Version: 1.13.0 Command: chmod a+r plotgardener -R && E:\biocbuild\bbs-3.21-bioc\R\bin\R.exe CMD build --keep-empty-dirs --no-resave-data plotgardener StartedAt: 2025-02-09 20:47:22 -0500 (Sun, 09 Feb 2025) EndedAt: 2025-02-09 20:51:35 -0500 (Sun, 09 Feb 2025) EllapsedTime: 252.8 seconds RetCode: 0 Status: OK PackageFile: plotgardener_1.13.0.tar.gz PackageFileSize: 2.516 MiB