Package: plyinteractions Version: 1.5.0 Command: rm -rf plyinteractions.buildbin-libdir && mkdir plyinteractions.buildbin-libdir && /Users/biocbuild/BBS/utils/build-universal.sh plyinteractions_1.5.0.tar.gz /Library/Frameworks/R.framework/Resources/bin/R plyinteractions.buildbin-libdir StartedAt: 2025-02-09 22:25:23 -0500 (Sun, 09 Feb 2025) EndedAt: 2025-02-09 22:25:39 -0500 (Sun, 09 Feb 2025) EllapsedTime: 16.4 seconds RetCode: 0 Status: OK PackageFile: plyinteractions_1.5.0.tgz PackageFileSize: 4.173 MiB