Package: plyinteractions Version: 1.5.0 Command: /Library/Frameworks/R.framework/Resources/bin/R CMD build --keep-empty-dirs --no-resave-data plyinteractions StartedAt: 2025-02-03 17:52:07 -0500 (Mon, 03 Feb 2025) EndedAt: 2025-02-03 17:54:41 -0500 (Mon, 03 Feb 2025) EllapsedTime: 153.8 seconds RetCode: 0 Status: OK PackageFile: plyinteractions_1.5.0.tar.gz PackageFileSize: 3.749 MiB