Package: plyinteractions Version: 1.5.0 Command: /Library/Frameworks/R.framework/Resources/bin/R CMD INSTALL plyinteractions StartedAt: 2025-02-03 15:43:56 -0500 (Mon, 03 Feb 2025) EndedAt: 2025-02-03 15:44:10 -0500 (Mon, 03 Feb 2025) EllapsedTime: 14.7 seconds RetCode: 0 Status: OK