Package: plyinteractions Version: 1.5.0 Command: /home/biocbuild/R/R/bin/R CMD check --install=check:plyinteractions.install-out.txt --library=/home/biocbuild/R/R/site-library --no-vignettes --timings plyinteractions_1.5.0.tar.gz StartedAt: 2025-01-28 13:58:12 -0000 (Tue, 28 Jan 2025) EndedAt: 2025-01-28 14:04:15 -0000 (Tue, 28 Jan 2025) EllapsedTime: 363.3 seconds RetCode: 0 Status: OK CheckDir: plyinteractions.Rcheck Warnings: 0