Package: plyinteractions Version: 1.5.0 Command: rm -rf plyinteractions.buildbin-libdir && mkdir plyinteractions.buildbin-libdir && /Users/biocbuild/BBS/utils/build-universal.sh plyinteractions_1.5.0.tar.gz /Library/Frameworks/R.framework/Resources/bin/R plyinteractions.buildbin-libdir StartedAt: 2025-02-10 01:08:35 -0500 (Mon, 10 Feb 2025) EndedAt: 2025-02-10 01:09:30 -0500 (Mon, 10 Feb 2025) EllapsedTime: 54.3 seconds RetCode: 0 Status: OK PackageFile: plyinteractions_1.5.0.tgz PackageFileSize: 4.172 MiB