Package: plyinteractions Version: 1.5.0 Command: /home/biocbuild/bbs-3.21-bioc/R/bin/R CMD INSTALL plyinteractions StartedAt: 2025-02-04 15:31:18 -0500 (Tue, 04 Feb 2025) EndedAt: 2025-02-04 15:31:54 -0500 (Tue, 04 Feb 2025) EllapsedTime: 36.6 seconds RetCode: 0 Status: OK