Package: plyinteractions Version: 1.5.0 Command: rm -rf plyinteractions.buildbin-libdir && mkdir plyinteractions.buildbin-libdir && E:\biocbuild\bbs-3.21-bioc\R\bin\R.exe CMD INSTALL --build --library=plyinteractions.buildbin-libdir plyinteractions_1.5.0.tar.gz StartedAt: 2025-02-04 08:36:50 -0500 (Tue, 04 Feb 2025) EndedAt: 2025-02-04 08:42:32 -0500 (Tue, 04 Feb 2025) EllapsedTime: 341.7 seconds RetCode: 0 Status: OK PackageFile: plyinteractions_1.5.0.zip PackageFileSize: 3.91 MiB