Package: plyinteractions Version: 1.5.0 Command: chmod a+r plyinteractions -R && E:\biocbuild\bbs-3.21-bioc\R\bin\R.exe CMD build --keep-empty-dirs --no-resave-data plyinteractions StartedAt: 2025-02-03 21:00:31 -0500 (Mon, 03 Feb 2025) EndedAt: 2025-02-03 21:09:29 -0500 (Mon, 03 Feb 2025) EllapsedTime: 537.7 seconds RetCode: 0 Status: OK PackageFile: plyinteractions_1.5.0.tar.gz PackageFileSize: 3.484 MiB