Package: plyinteractions Version: 1.5.0 Command: E:\biocbuild\bbs-3.21-bioc\R\bin\R.exe CMD check --no-multiarch --install=check:plyinteractions.install-out.txt --library=E:\biocbuild\bbs-3.21-bioc\R\library --no-vignettes --timings plyinteractions_1.5.0.tar.gz StartedAt: 2025-02-10 04:09:56 -0500 (Mon, 10 Feb 2025) EndedAt: 2025-02-10 04:15:31 -0500 (Mon, 10 Feb 2025) EllapsedTime: 335.0 seconds RetCode: 0 Status: OK CheckDir: plyinteractions.Rcheck Warnings: 0