Package: plyinteractions Version: 1.5.0 Command: E:\biocbuild\bbs-3.21-bioc\R\bin\R.exe CMD INSTALL plyinteractions StartedAt: 2025-02-03 16:33:26 -0500 (Mon, 03 Feb 2025) EndedAt: 2025-02-03 16:35:30 -0500 (Mon, 03 Feb 2025) EllapsedTime: 123.5 seconds RetCode: 0 Status: OK