Package: plyranges Version: 1.27.0 Command: /home/biocbuild/R/R/bin/R CMD build --keep-empty-dirs --no-resave-data plyranges StartedAt: 2025-01-29 01:18:31 -0000 (Wed, 29 Jan 2025) EndedAt: 2025-01-29 01:19:46 -0000 (Wed, 29 Jan 2025) EllapsedTime: 75.0 seconds RetCode: 0 Status: OK PackageFile: plyranges_1.27.0.tar.gz PackageFileSize: 1.299 MiB