Package: plyranges Version: 1.27.0 Command: /Library/Frameworks/R.framework/Resources/bin/R CMD build --keep-empty-dirs --no-resave-data plyranges StartedAt: 2025-02-09 17:58:32 -0500 (Sun, 09 Feb 2025) EndedAt: 2025-02-09 17:59:35 -0500 (Sun, 09 Feb 2025) EllapsedTime: 62.9 seconds RetCode: 0 Status: OK PackageFile: plyranges_1.27.0.tar.gz PackageFileSize: 1.24 MiB