Package: plyranges Version: 1.27.0 Command: /Library/Frameworks/R.framework/Resources/bin/R CMD check --install=check:plyranges.install-out.txt --library=/Library/Frameworks/R.framework/Resources/library --no-vignettes --timings plyranges_1.27.0.tar.gz StartedAt: 2025-02-03 22:29:29 -0500 (Mon, 03 Feb 2025) EndedAt: 2025-02-03 22:34:39 -0500 (Mon, 03 Feb 2025) EllapsedTime: 309.8 seconds RetCode: 0 Status: OK CheckDir: plyranges.Rcheck Warnings: 0