Package: plyranges Version: 1.27.0 Command: /home/biocbuild/bbs-3.21-bioc/R/bin/R CMD build --keep-empty-dirs --no-resave-data plyranges StartedAt: 2025-02-03 18:49:43 -0500 (Mon, 03 Feb 2025) EndedAt: 2025-02-03 18:50:37 -0500 (Mon, 03 Feb 2025) EllapsedTime: 54.1 seconds RetCode: 0 Status: OK PackageFile: plyranges_1.27.0.tar.gz PackageFileSize: 1.292 MiB