Package: plyranges Version: 1.27.0 Command: E:\biocbuild\bbs-3.21-bioc\R\bin\R.exe CMD INSTALL plyranges StartedAt: 2025-02-09 16:17:09 -0500 (Sun, 09 Feb 2025) EndedAt: 2025-02-09 16:18:37 -0500 (Sun, 09 Feb 2025) EllapsedTime: 88.4 seconds RetCode: 0 Status: OK