Package: plyxp Version: 1.1.0 Command: /Library/Frameworks/R.framework/Resources/bin/R CMD build --keep-empty-dirs --no-resave-data plyxp StartedAt: 2025-02-09 17:15:59 -0500 (Sun, 09 Feb 2025) EndedAt: 2025-02-09 17:16:16 -0500 (Sun, 09 Feb 2025) EllapsedTime: 17.2 seconds RetCode: 1 Status: ERROR PackageFile: None PackageFileSize: NA