Package: plyxp Version: 1.1.0 Command: /Library/Frameworks/R.framework/Resources/bin/R CMD INSTALL plyxp StartedAt: 2025-02-09 15:04:36 -0500 (Sun, 09 Feb 2025) EndedAt: 2025-02-09 15:04:49 -0500 (Sun, 09 Feb 2025) EllapsedTime: 13.2 seconds RetCode: 0 Status: OK