Package: plyxp Version: 1.1.0 Command: /Library/Frameworks/R.framework/Resources/bin/R CMD INSTALL plyxp StartedAt: 2025-02-09 15:10:27 -0500 (Sun, 09 Feb 2025) EndedAt: 2025-02-09 15:11:11 -0500 (Sun, 09 Feb 2025) EllapsedTime: 44.2 seconds RetCode: 0 Status: OK