Package: plyxp Version: 1.1.0 Command: chmod a+r plyxp -R && E:\biocbuild\bbs-3.21-bioc\R\bin\R.exe CMD build --keep-empty-dirs --no-resave-data plyxp StartedAt: 2025-02-09 20:47:47 -0500 (Sun, 09 Feb 2025) EndedAt: 2025-02-09 20:48:39 -0500 (Sun, 09 Feb 2025) EllapsedTime: 51.4 seconds RetCode: 1 Status: ERROR PackageFile: None PackageFileSize: NA