Package: pmm Version: 1.39.0 Command: /Library/Frameworks/R.framework/Resources/bin/R CMD INSTALL pmm StartedAt: 2025-02-04 15:03:38 -0500 (Tue, 04 Feb 2025) EndedAt: 2025-02-04 15:03:43 -0500 (Tue, 04 Feb 2025) EllapsedTime: 5.2 seconds RetCode: 0 Status: OK