Package: pmm Version: 1.39.0 Command: /home/biocbuild/R/R/bin/R CMD build --keep-empty-dirs --no-resave-data pmm StartedAt: 2025-01-29 01:18:49 -0000 (Wed, 29 Jan 2025) EndedAt: 2025-01-29 01:19:22 -0000 (Wed, 29 Jan 2025) EllapsedTime: 33.0 seconds RetCode: 0 Status: OK PackageFile: pmm_1.39.0.tar.gz PackageFileSize: 769.2 KiB