Package: pmm Version: 1.39.0 Command: /Library/Frameworks/R.framework/Resources/bin/R CMD build --keep-empty-dirs --no-resave-data pmm StartedAt: 2025-02-09 17:58:38 -0500 (Sun, 09 Feb 2025) EndedAt: 2025-02-09 17:59:10 -0500 (Sun, 09 Feb 2025) EllapsedTime: 32.0 seconds RetCode: 0 Status: OK PackageFile: pmm_1.39.0.tar.gz PackageFileSize: 776.1 KiB