Package: pmm Version: 1.39.0 Command: /Library/Frameworks/R.framework/Resources/bin/R CMD check --install=check:pmm.install-out.txt --library=/Library/Frameworks/R.framework/Resources/library --no-vignettes --timings pmm_1.39.0.tar.gz StartedAt: 2025-02-09 22:44:15 -0500 (Sun, 09 Feb 2025) EndedAt: 2025-02-09 22:46:05 -0500 (Sun, 09 Feb 2025) EllapsedTime: 110.2 seconds RetCode: 0 Status: OK CheckDir: pmm.Rcheck Warnings: 0